Workbook

Sheet OBLICZENIA
A1: CHARAKTERYSTYKA ENERGETYCZNA BUDYNKU *
A2: BUDYNEK OCENIANY
A4: RODZAJ BUDYNKU
A5: Do wyboru: I. Budynek mieszkalny II. Budynek użytecznosci publicznej
A6: ADRES BUDYNKU
A8: NAZWA PROJEKTU
C10: PRZED | D10: PO
A11: POWIERZCHNIA UŻYTKOWA | B11: [m2]
A12: POWIERZCHNIA O REGULOWANEJ TEMPERATURZE | B12: [m2]
A13: POWIERZCHNIA CHŁODZONA | B13: [m2]
A14: Liczba zmodernizowanych energetycznie budynków | B14: szt.
A15: Liczba zmodernizowanych indywidualnych źródeł ciepła | B15: szt.
A16: PODSUMOWANIE PARAMETRÓW ENERGETYCZNYCH
A17: ŁĄCZNIE DLA BUDYNKU
A18: ZAPOTRZEBOWANIE NA ENERGIĘ UŻYTKOWĄ | B18: [kWh/rok] | C18: ='Z4_co EK,EP'!C5+'Z4_cwu EK,EP'!C4+'Z4_ch EK,EP'!C4 -> 0 | D18: ='Z4_co EK,EP'!D5+'Z4_cwu EK,EP'!D4+'Z4_ch EK,EP'!D4 -> 0
A19: ZAPOTRZEBOWANIE NA ENERGIĘ KOŃCOWĄ BEZ URZĄDZEŃ POMOCNICZYCH | B19: [kWh/rok] | C19: ='Z4_co EK,EP'!C7+'Z4_cwu EK,EP'!C7+'Z4_ch EK,EP'!C7+OŚWIETLENIE!B4 -> 0 | D19: ='Z4_co EK,EP'!D7+'Z4_cwu EK,EP'!D7+'Z4_ch EK,EP'!D7+OŚWIETLENIE!C4 -> 0
A20: ZAPOTRZEBOWANIE NA ENERGIĘ KOŃCOWĄ DO NAPĘDU URZĄDZEŃ POMOCNICZYCH | B20: [kWh/rok] | C20: ='Z4_co EK,EP'!C13+'Z4_cwu EK,EP'!C13+'Z4_ch EK,EP'!C13 -> 0 | D20: ='Z4_co EK,EP'!D13+'Z4_cwu EK,EP'!D13+'Z4_ch EK,EP'!D13 -> 0
A21: ZAPOTRZEBOWANIE NA ENERGIĘ KOŃCOWĄ WRAZ Z URZĄDZENIAMI POMOCNICZYMI | B21: [kWh/rok] | C21: =C20+C19 -> 0 | D21: =D20+D19 -> 0
A22: ZAPOTRZEBOWANIE NA NIEODNAWIALNĄ ENERGIĘ PIERWOTNĄ WRAZ Z URZĄDZENIAMI POMOCNICZYMI | B22: [kWh/rok] | C22: ='Z4_co EK,EP'!C19+'Z4_cwu EK,EP'!C19+'Z4_ch EK,EP'!C19+OŚWIETLENIE!B5-PV!B5-'TURBINA WIATROWA'!B5 -> 0 | D22: ='Z4_co EK,EP'!D19+'Z4_cwu EK,EP'!D19+'Z4_ch EK,EP'!D19+OŚWIETLENIE!C5-PV!C5-'TURBINA WIATROWA'!C5 -> 0
A23: WIELKOŚĆ EMISJI DWUTLENKU WĘGLA | B23: [tCO2/rok] | C23: ='Z4_co EK,EP'!C26+'Z4_cwu EK,EP'!C26+'Z4_ch EK,EP'!C26+OŚWIETLENIE!B6-PV!B6-'TURBINA WIATROWA'!B6 -> 0 | D23: ='Z4_co EK,EP'!D26+'Z4_cwu EK,EP'!D26+'Z4_ch EK,EP'!D26+OŚWIETLENIE!C6-PV!C6-'TURBINA WIATROWA'!C6 -> 0
A24: ZAPOTRZEBOWANIE NA ENERGIĘ EU, EK, EP
A25: JEDNOSTKOWE ZAPOTRZEBOWANIE NA ENERGIĘ UŻYTKOWĄ | B25: [kWh/m2rok] | C25: =C18/C12 -> #DIV/0! | D25: =D18/D12 -> #DIV/0!
A26: JEDNOSTKOWE ZAPOTRZEBOWANIE NA ENERGIĘ KOŃCOWĄ WRAZ Z URZĄDZENIAMI POMOCNICZYMI | B26: [kWh/m2rok] | C26: =C21/C12 -> #DIV/0! | D26: =D21/D12 -> #DIV/0!
A27: JEDNOSTKOWE ZAPOTRZEBOWANIE NA NIEODNAWIALNĄ ENERGIĘ PIERWOTNĄ WRAZ Z URZĄDZENIAMI POMOCNICZYMI | B27: [kWh/m2rok] | C27: =C22/C13 -> #DIV/0! | D27: =D22/D13 -> #DIV/0!
A28: SPRAWDZENIE SPEŁNIENIA WYMAGAŃ POŻYCZKI
A29: WARUNEK WSKAŹNIKA EP (PROCENT ZAOSZCZĘDZONEJ ENERGII PIERWOTNEJ) | C29: =1-D22/C22 -> #DIV/0!
A30: ILOŚĆ ZUŻYTEJ ENERGII CIEPLNEJ | B30: MWh/rok | C30: =('Z4_co EK,EP'!C7+'Z4_cwu EK,EP'!C7)/1000 -> 0 | D30: =('Z4_co EK,EP'!D7+'Z4_cwu EK,EP'!D7)/1000 -> 0
A31: ILOŚĆ ZAOSZCZĘDZONEJ ENERGII CIEPLNEJ | B31: MWh/rok | C31: =C30-D30 -> 0
A32: ILOŚĆ ZUŻYTEJ ENERGII ELEKTRYCZNEJ | B32: MWh/rok | C32: =(OŚWIETLENIE!B4/1000+'Z4_co EK,EP'!C13+'Z4_cwu EK,EP'!C13+'Z4_ch EK,EP'!C13+'Z4_ch EK,EP'!C5)/1000 -> 0 | D32: =(OŚWIETLENIE!C4/1000+'Z4_co EK,EP'!D13+'Z4_cwu EK,EP'!D13+'Z4_ch EK,EP'!D13+'Z4_ch EK,EP'!D5)/1000 -> 0
A33: ILOŚĆ ZAOSZCZĘDZONEJ ENERGII ELEKTRYCZNEJ | B33: MWh/rok | C33: =C32-D32 -> 0
A34: ILOŚĆ ZUŻYTEJ ENERGII CIEPLNEJ I ELEKTRYCZNEJ | B34: MWh/rok | C34: =C30+C32 -> 0 | D34: =D30+D32 -> 0
A35: ILOŚĆ ZAOSZCZĘDZONEJ ENERGII CIEPLNEJ I ELEKTRYCZNEJ | B35: MWh/rok | C35: =C34-D34 -> 0
A36: ILOŚĆ WYPRODUKOWANEJ EN. ELEKTRYCZNEJ PRZEZ OZE1 | B36: MWh/rok | C36: =PV!B4/1000 -> 0 | D36: =PV!C4/1000 -> 0
A37: REDUKCJA EMISJI DWUTLENKU WĘGLA | B37: tCO2/rok | C37: =C23-D23 -> 0
A40: 1 Wyprodukowana en. elektryczna nie może być większa niż zużycie en. elektrycznej po modernizacji.
A41: * w uzasadnionych przypadkach zakres niniejszego dokumentu może zostać, w uzgodnieniu z Partnerem Finansującym, dostosowany do specyfiki Inwestycji Końcowej.

Sheet Z4_co EK,EP
A1: Obliczenie wskaźników na ciepło dla ogrzewania i wentylacji
A2: Opis | B2: Jedn. | C2: Stan istniejący | D2: Stan po modernizacji | E2: UWAGI
A3: (1) | B3: (2) | C3: (3) | D3: (4)
A4: Roczne zapotrzebowanie ciepła użytkowego dla ogrzewania i wentylacji Q U | B4: GJ/rok | E4: ŹRÓDŁO: AUDYT ENERGETYCZNY Rozporządzenie Ministra Infrastruktury z dnia 17 marca 2009 r. w sprawie szczegółowego zakresu i form audytu energetycznego oraz części audytu remontowego, wzorów kart audytów, a także algorytmu oceny opłacalności przedsięwzięcia termomodernizacyjnego (Dz.U. 2009 nr 43 poz. 346 ze zm.)
A5: Roczne zapotrzebowanie ciepła użytkowego dla ogrzewania i wentylacji Q U | B5: kWh/rok | C5: =C4*277.7777 -> 0 | D5: =D4*277.7777 -> 0
A6: Roczne zapotrzebowanie na energię końcową Q K | B6: GJ/rok
A7: Roczne zapotrzebowanie na energię końcową Q K | B7: kWh/rok | C7: =C6*277.7777 -> 0 | D7: =D6*277.7777 -> 0
A8: Powierzchnia ogrzewana Af | B8: m2
A10: Energia pomocnicza :
A11: -Zapotrzebowanie mocy | B11: W/m2 | E11: Należy policzyć dla każdego urządzenia pomocniczego
A12: -Czas pracy | B12: h/rok
A13: -Roczne zapotrzebowanie energii | B13: kWh/rok | C13: =ROUND(C11*C12*C8/1000,1) -> 0 | D13: =ROUND(D11*D12*D8/1000,1) -> 0
A14: Współczynniki nakładu na nieodnawialną energię pierwotną
A15: - dla biomasy | B15: - | C15: 0.2 | D15: =C15 -> 0.2
A16: - dla energii elektrycznej | B16: - | C16: 2.5 | D16: =C16 -> 2.5
A17: - dla węgla kamiennego/ gazu | B17: - | C17: 1.1 | D17: 1.1
A18: inne (wg. danych dystrybutora ciepła) | B18: -
A19: Roczne zapotrzebowanie na energię pierwotną Q P | B19: kWh/rok | C19: =ROUND(C7*C15+C13*C16,2) -> 0 | D19: =ROUND(D7*D15+D13*D16,2) -> 0 | E19: Należy przemnożyć energię końcową przez odpowiedni wskaźnik
A21: Emisja CO2 :
A22: Wskaźniki CO2
A23: - dla biomasy (podać wg KOBIZE aktualny na dzień wykonywania audytu) | B23: kg/GJ
A24: - dla energii elektrycznej (podać wg KOBIZE aktualny na dzień wykonywania audytu) | B24: kg/MWh
A25: inny (podać wg KOBIZE aktualny na dzień wykonywania audytu)
A26: Roczna emisja CO2 | B26: t CO2/rok | C26: =ROUND(C23*C6/1000+C24/1000*C13/1000,2) -> 0 | D26: =ROUND(D23*D6/1000+D24/1000*D13/1000,2) -> 0 | E26: Należy przemnozyć energię końcową przez odpowiedni wskaźnik

Sheet Z4_cwu EK,EP
A1: Obliczenie wskaźników na ciepło dla ciepłej wody użytkowej
A2: Opis | B2: Jedn. | C2: Stan istniejący | D2: Stan po modernizacji | E2: Uwagi | F2: UWAGI
A3: (1) | B3: (2) | C3: (3) | D3: (4) | E3: (5)
A4: Roczne zapotrzebowanie ciepła użytkowego dla ciepłej wody użytkowej Q U | B4: GJ/rok | F4: ŹRÓDŁO: AUDYT ENERGETYCZNY Rozporządzenie Ministra Infrastruktury z dnia 17 marca 2009 r. w sprawie szczegółowego zakresu i form audytu energetycznego oraz części audytu remontowego, wzorów kart audytów, a także algorytmu oceny opłacalności przedsięwzięcia termomodernizacyjnego (Dz.U. 2009 nr 43 poz. 346 ze zm.)
A5: Roczne zapotrzebowanie ciepła użytkowego dla ciepłej wody użytkowej Q U | B5: kWh/rok | C5: =C4*277.7777 -> 0 | D5: =D4*277.7777 -> 0
A6: Roczne zapotrzebowanie na energię końcową Q K | B6: GJ/rok
A7: Roczne zapotrzebowanie na energię końcową Q K | B7: kWh/rok | C7: =C6*277.7777 -> 0 | D7: =D6*277.7777 -> 0
A8: Powierzchnia ogrzewana Af | B8: m2
A10: Energia pomocnicza :
A11: -Zapotrzebowanie mocy | B11: W/m2 | F11: Należy policzyć dla każdego urządzenia pomocniczego
A12: -Czas pracy | B12: h/rok
A13: -Roczne zapotrzebowanie energii | B13: kWh/rok | C13: =ROUND(C11*C12*C8/1000,1) -> 0 | D13: =ROUND(D11*D12*D8/1000,1) -> 0
A14: Współczynniki nakładu na nieodnawialną energię pierwotną
A15: - dla biomasy | B15: - | C15: 0.2 | D15: =C15 -> 0.2
A16: - dla energii elektrycznej | B16: - | C16: 2.5 | D16: =C16 -> 2.5
A17: - dla węgla kamiennego/ gazu | B17: - | C17: 1.1 | D17: 1.1
A18: inne (wg. danych dystrybutora ciepła) | B18: -
A19: Roczne zapotrzebowanie na energię pierwotną Q P | B19: kWh/rok | C19: =ROUND(C7*C15+C13*C16,2) -> 0 | D19: =ROUND(D7*D15+D13*D16,2) -> 0 | F19: Należy przemnozyć energię końcową przez odpowiedni wskaźnik
A21: Emisja CO2 :
A22: Wskaźniki CO2
A23: - dla biomasy (podać wg KOBIZE aktualny na dzień wykonywania audytu) | B23: kg/GJ
A24: - dla energii elektrycznej (podać wg KOBIZE aktualny na dzień wykonywania audytu) | B24: kg/MWh
A25: inny (podać wg KOBIZE aktualny na dzień wykonywania audytu)
A26: Roczna emisja CO2 | B26: t CO2/rok | C26: =ROUND(C23*C6/1000+C24/1000*C13/1000,2) -> 0 | D26: =ROUND(D23*D6/1000+D24/1000*D13/1000,2) -> 0 | F26: Należy przemnozyć energię końcową przez odpowiedni wskaźnik

Sheet Z4_ch EK,EP
A1: Obliczenie wskaźników na chłodzenie - jeśli dotyczy
A2: Opis | B2: Jedn. | C2: Stan istniejący | D2: Stan po modernizacji | E2: Uwagi | F2: UWAGI
A3: (1) | B3: (2) | C3: (3) | D3: (4) | E3: (5)
A4: Roczne zapotrzebowanie dla chłodzenia Q U | B4: GJ/rok | F4: ŹRÓDŁO: AUDYT NA CELE CHŁODZENIA Rozporządzenie Ministra Energii z dnia 5 października 2017 r. w sprawie szczegółowego zakresu i sposobu sporządzania audytu efektywności energetycznej oraz metod obliczania oszczędności energii (t.j. Dz. U. z 2023 r. poz. 1220)
A5: Roczne zapotrzebowanie chłodzenia Q U | B5: kWh/rok | C5: =C4*277.7777 -> 0 | D5: =D4*277.7777 -> 0
A6: Roczne zapotrzebowanie na energię końcową Q K | B6: GJ/rok
A7: Roczne zapotrzebowanie na energię końcową Q K | B7: kWh/rok | C7: =C6*277.7777 -> 0 | D7: =D6*277.7777 -> 0
A8: Powierzchnia chłodzona Af | B8: m2
A10: Energia pomocnicza :
A11: -Zapotrzebowanie mocy | B11: W/m2 | F11: Należy policzyć dla każdego urządzenia pomocniczego
A12: -Czas pracy | B12: h/rok
A13: -Roczne zapotrzebowanie energii | B13: kWh/rok | C13: =ROUND(C11*C12*C8/1000,1) -> 0 | D13: =ROUND(D11*D12*D8/1000,1) -> 0
A14: Współczynniki nakładu na nieodnawialną energię pierwotną
A15: - dla biomasy | B15: - | C15: 0.2 | D15: =C15 -> 0.2
A16: - dla energii elektrycznej | B16: - | C16: 2.5 | D16: =C16 -> 2.5
A17: - dla węgla kamiennego/ gazu | B17: - | C17: 1.1 | D17: 1.1
A18: inne (wg. danych dystrybutora ciepła) | B18: -
A19: Roczne zapotrzebowanie na energię pierwotną Q P | B19: kWh/rok | C19: =ROUND(C7*C15+C13*C16,2) -> 0 | D19: =ROUND(D7*D15+D13*D16,2) -> 0 | F19: Należy przemnożyć energię końcową przez odpowiedni wskaźnik
A21: Emisja CO2 :
A22: Wskaźniki CO2
A23: - dla biomasy(podać wg KOBIZE aktualny na dzień wykonywania audytu) | B23: kg/GJ
A24: - dla energii elektrycznej(podać wg KOBIZE aktualny na dzień wykonywania audytu) | B24: kg/MWh
A25: inny (podać wg KOBIZE aktualny na dzień wykonywania audytu)
A26: Roczna emisja CO2 | B26: t CO2/rok | C26: =ROUND(C23*C6/1000+C24/1000*C13/1000,2) -> 0 | D26: =ROUND(D23*D6/1000+D24/1000*D13/1000,2) -> 0 | F26: Należy przemnożyć energię końcową przez odpowiedni wskaźnik

Sheet OŚWIETLENIE
A1: Obliczenie wskaźników na oświetlenie - jeśli dotyczy
B2: STAN ISTNIEJĄCY | C2: PO MODERNIZACJI | E2: JEDNOSTKA | F2: UWAGI
A3: Moc instalacji oświetlenia = | E3: kW | F3: ŹRÓDŁO: DANE Z AUDYTU NA CELE OŚWIETLENIA Rozporządzenie Ministra Energii z dnia 5 października 2017 r. w sprawie szczegółowego zakresu i sposobu sporządzania audytu efektywności energetycznej oraz metod obliczania oszczędności energii (t.j. Dz. U. z 2023 r. poz. 1220)
A4: Energia finalna zużywana w ciągu roku = | D4: =B4-C4 -> 0 | E4: kWh
A5: Energia pierwotna zużywana w ciągu roku= | B5: =B4*'Z4_co EK,EP'!C16 -> 0 | C5: =C4*'Z4_co EK,EP'!D16 -> 0 | D5: =B5-C5 -> 0 | E5: =E4 -> kWh
A6: Szacowana wielkość emisji CO2 w ciągu roku = | B6: =B4/1000*'Z4_co EK,EP'!C24/1000 -> 0 | C6: =C4/1000*'Z4_co EK,EP'!D24/1000 -> 0 | D6: =B6-C6 -> 0 | E6: Mg CO2

Sheet PV
A1: Obliczenie wskaźników na instalację fotowoltaiczną - jeśli dotyczy
B2: STAN ISTNIEJĄCY | C2: PO MODERNIZACJI | E2: JEDNOSTKA | F2: UWAGI
A3: Moc instalacji PV = | E3: kW | F3: ŹRÓDŁO: DANE Z AUDYTU NA CELE PV Rozporządzenie Ministra Energii z dnia 5 października 2017 r. w sprawie szczegółowego zakresu i sposobu sporządzania audytu efektywności energetycznej oraz metod obliczania oszczędności energii (t.j. Dz. U. z 2023 r. poz. 1220)
A4: Energia finalna wyprodukowana w ciągu roku = | D4: =B4-C4 -> 0 | E4: kWh
A5: Energia pierwotna wyprodukowana w ciągu roku= | B5: =B4*2.5 -> 0 | C5: =C4*2.5 -> 0 | D5: =B5-C5 -> 0 | E5: =E4 -> kWh
A6: Szacowane zmniejszenie emisji CO2 w ciągu roku = | B6: =B4/1000*'Z4_co EK,EP'!C24/1000 -> 0 | C6: =C4/1000*'Z4_co EK,EP'!D24/1000 -> 0 | D6: =B6-C6 -> 0 | E6: Mg CO2

Sheet TURBINA WIATROWA
A1: Obliczenie wskaźników na instalację mikroturbiny wiatrowej - jeśli dotyczy
B2: STAN ISTNIEJĄCY | C2: PO MODERNIZACJI | E2: JEDNOSTKA | F2: UWAGI
A3: Moc instalacji mikroturbiny wiatrowej = | E3: kW | F3: ŹRÓDŁO: DANE Z AUDYTU NA CELE MIKROTURBINY WIATROWEJ Rozporządzenie Ministra Energii z dnia 5 października 2017 r. w sprawie szczegółowego zakresu i sposobu sporządzania audytu efektywności energetycznej oraz metod obliczania oszczędności energii (t.j. Dz. U. z 2023 r. poz. 1220)
A4: Energia finalna wyprodukowana w ciągu roku = | D4: =B4-C4 -> 0 | E4: kWh
A5: Energia pierwotna wyprodukowana w ciągu roku= | B5: =B4*2.5 -> 0 | C5: =C4*2.5 -> 0 | D5: =B5-C5 -> 0 | E5: =E4 -> kWh
A6: Szacowane zmniejszenie emisji CO2 w ciągu roku = | B6: =B4/1000*'Z4_co EK,EP'!C24/1000 -> 0 | C6: =C4/1000*'Z4_co EK,EP'!D24/1000 -> 0 | D6: =B6-C6 -> 0 | E6: Mg CO2
